BEGIN:VCALENDAR
VERSION:2.0
PRODID:-//brookvillechamber.com - ECPv6.15.20//NONSGML v1.0//EN
CALSCALE:GREGORIAN
METHOD:PUBLISH
X-WR-CALNAME:brookvillechamber.com
X-ORIGINAL-URL:https://brookvillechamber.com
X-WR-CALDESC:Events for brookvillechamber.com
REFRESH-INTERVAL;VALUE=DURATION:PT1H
X-Robots-Tag:noindex
X-PUBLISHED-TTL:PT1H
BEGIN:VTIMEZONE
TZID:America/New_York
BEGIN:DAYLIGHT
TZOFFSETFROM:-0500
TZOFFSETTO:-0400
TZNAME:EDT
DTSTART:20250309T070000
END:DAYLIGHT
BEGIN:STANDARD
TZOFFSETFROM:-0400
TZOFFSETTO:-0500
TZNAME:EST
DTSTART:20251102T060000
END:STANDARD
BEGIN:DAYLIGHT
TZOFFSETFROM:-0500
TZOFFSETTO:-0400
TZNAME:EDT
DTSTART:20260308T070000
END:DAYLIGHT
BEGIN:STANDARD
TZOFFSETFROM:-0400
TZOFFSETTO:-0500
TZNAME:EST
DTSTART:20261101T060000
END:STANDARD
BEGIN:DAYLIGHT
TZOFFSETFROM:-0500
TZOFFSETTO:-0400
TZNAME:EDT
DTSTART:20270314T070000
END:DAYLIGHT
BEGIN:STANDARD
TZOFFSETFROM:-0400
TZOFFSETTO:-0500
TZNAME:EST
DTSTART:20271107T060000
END:STANDARD
END:VTIMEZONE
BEGIN:VEVENT
DTSTART;TZID=America/New_York:20261019T110000
DTEND;TZID=America/New_York:20261019T180000
DTSTAMP:20260424T093829
CREATED:20260309T143404Z
LAST-MODIFIED:20260309T143404Z
UID:7991-1792407600-1792432800@brookvillechamber.com
SUMMARY:Food Truck Monday
DESCRIPTION:Food Truck Monday returns to Historic Downtown Brookville beginning March 16! Each Monday from mid-March through October\, a rotating lineup of food trucks will serve lunch and dinner in front of Town Square on Main Street. Grab something delicious and enjoy the heart of downtown—because the best seat in the house is outside. Relax at one of the picnic tables or park benches\, take in the fresh air\, and soak up the charm of Brookville’s Victorian Main Street. Hosted by the Brookville Area Chamber of Commerce.
URL:https://brookvillechamber.com/event/food-truck-monday-30/
LOCATION:Historic Brookville Town Square\, 236 Main Street\, Brookville\, Pennsylvania\, 15825\, United States
CATEGORIES:BACC Event,Food & Drink
ATTACH;FMTTYPE=image/png:https://brookvillechamber.com/wp-content/uploads/2026/03/Billboard-Food-Truck-Monday-2026-2.png
ORGANIZER;CN="Brookville Area Chamber of Commerce":MAILTO:director@brookvillechamber.com
END:VEVENT
BEGIN:VEVENT
DTSTART;TZID=America/New_York:20261024T160000
DTEND;TZID=America/New_York:20261024T190000
DTSTAMP:20260424T093829
CREATED:20260205T173112Z
LAST-MODIFIED:20260306T140020Z
UID:7559-1792857600-1792868400@brookvillechamber.com
SUMMARY:Farmers Market
DESCRIPTION:Farmers Market On Fridays\,4:oopm till 7;oopm May through October If you would liketo set up to sell your home-made or home-grown products\, please call 814-849-0915
URL:https://brookvillechamber.com/event/farmers-market-28/
LOCATION:Blackbird Distillery\, 93 Blackout Alley\, Brookville\, PA\, 15825\, United States
CATEGORIES:Food & Drink,Shopping
ATTACH;FMTTYPE=image/jpeg:https://brookvillechamber.com/wp-content/uploads/2026/02/farmers-market-eat-local.jpg
END:VEVENT
BEGIN:VEVENT
DTSTART;TZID=America/New_York:20261024T170000
DTEND;TZID=America/New_York:20261024T210000
DTSTAMP:20260424T093829
CREATED:20260112T144510Z
LAST-MODIFIED:20260112T144510Z
UID:7297-1792861200-1792875600@brookvillechamber.com
SUMMARY:Live Music at Gateway Lodge
DESCRIPTION:Local musicians bring the lodge to life with acoustic favorites and soulful originals while you dine from our Wild Crafter’s Kitchen menu\, featuring seasonal\, locally sourced dishes made in-house. Cozy up by the fire\, sip a glass of wine\, and enjoy live music in Cook Forest paired with fresh\, forest-to-table flavors — a truly memorable evening in Pennsylvania’s most peaceful woodland retreat.                                                                                                                                           10-24-26-|Saturday| Iris Heather| 5-9pm                                                                                                                                      October Wine And Dine Weekend Guests Only
URL:https://brookvillechamber.com/event/live-music-at-gateway-lodge-29/
LOCATION:Gateway Lodge\, 14870 Route 36\, Cooksburg\, PA\, 16217\, United States
CATEGORIES:Food & Drink,Music
ATTACH;FMTTYPE=image/jpeg:https://brookvillechamber.com/wp-content/uploads/2025/02/gateway-lodge.jpg
END:VEVENT
BEGIN:VEVENT
DTSTART;TZID=America/New_York:20261026T100000
DTEND;TZID=America/New_York:20261026T230000
DTSTAMP:20260424T093829
CREATED:20260309T142553Z
LAST-MODIFIED:20260309T142802Z
UID:7987-1793008800-1793055600@brookvillechamber.com
SUMMARY:Food Truck Monday
DESCRIPTION:Food Truck Monday returns to Historic Downtown Brookville beginning March 16! Each Monday from mid-March through October\, a rotating lineup of food trucks will serve lunch and dinner in front of Town Square on Main Street. Grab something delicious and enjoy the heart of downtown—because the best seat in the house is outside. Relax at one of the picnic tables or park benches\, take in the fresh air\, and soak up the charm of Brookville’s Victorian Main Street. Hosted by the Brookville Area Chamber of Commerce.
URL:https://brookvillechamber.com/event/food-truck-monday-29/
LOCATION:Historic Brookville Town Square\, 236 Main Street\, Brookville\, Pennsylvania\, 15825\, United States
CATEGORIES:BACC Event,Food & Drink
ATTACH;FMTTYPE=image/png:https://brookvillechamber.com/wp-content/uploads/2026/03/Billboard-Food-Truck-Monday-2026-2.png
ORGANIZER;CN="Brookville Area Chamber of Commerce":MAILTO:director@brookvillechamber.com
END:VEVENT
BEGIN:VEVENT
DTSTART;TZID=America/New_York:20261030T160000
DTEND;TZID=America/New_York:20261030T190000
DTSTAMP:20260424T093829
CREATED:20260205T173316Z
LAST-MODIFIED:20260306T135943Z
UID:7561-1793376000-1793386800@brookvillechamber.com
SUMMARY:Farmers Market
DESCRIPTION:Farmers Market On Fridays\,4:oopm till 7;oopm May through October If you would liketo set up to sell your home-made or home-grown products\, please call 814-849-0915
URL:https://brookvillechamber.com/event/farmers-market-29/
LOCATION:Blackbird Distillery\, 93 Blackout Alley\, Brookville\, PA\, 15825\, United States
CATEGORIES:Food & Drink,Shopping
ATTACH;FMTTYPE=image/jpeg:https://brookvillechamber.com/wp-content/uploads/2026/02/farmers-market-eat-local.jpg
END:VEVENT
BEGIN:VEVENT
DTSTART;TZID=America/New_York:20261107T180000
DTEND;TZID=America/New_York:20261107T200000
DTSTAMP:20260424T093829
CREATED:20260112T145954Z
LAST-MODIFIED:20260112T145954Z
UID:7299-1794074400-1794081600@brookvillechamber.com
SUMMARY:Live Music at Gateway Lodge
DESCRIPTION:Experience the warmth of Gateway Lodge with live music in Cook Forest on Thursday\, Friday\, or Saturday nights.\nLocal musicians bring the lodge to life with acoustic favorites and soulful originals while you dine from our Wild Crafter’s Kitchen menu\, featuring seasonal\, locally sourced dishes made in-house. Cozy up by the fire\, sip a glass of wine\, and enjoy live music in Cook Forest paired with fresh\, forest-to-table flavors — a truly memorable evening in Pennsylvania’s most peaceful woodland retreat.                                                                                                                                            11-07-26-| Saturday| Gary Rowan| 6-8pm
URL:https://brookvillechamber.com/event/live-music-at-gateway-lodge-30/
LOCATION:Gateway Lodge\, 14870 Route 36\, Cooksburg\, PA\, 16217\, United States
CATEGORIES:Food & Drink,Music
ATTACH;FMTTYPE=image/jpeg:https://brookvillechamber.com/wp-content/uploads/2025/02/gateway-lodge.jpg
END:VEVENT
BEGIN:VEVENT
DTSTART;TZID=America/New_York:20261112T080000
DTEND;TZID=America/New_York:20261112T200000
DTSTAMP:20260424T093829
CREATED:20260112T151610Z
LAST-MODIFIED:20260112T151610Z
UID:7303-1794470400-1794513600@brookvillechamber.com
SUMMARY:Live Music at Gateway Lodge
DESCRIPTION:Experience the warmth of Gateway Lodge with live music in Cook Forest on Thursday\, Friday\, or Saturday nights.\nLocal musicians bring the lodge to life with acoustic favorites and soulful originals while you dine from our Wild Crafter’s Kitchen menu\, featuring seasonal\, locally sourced dishes made in-house. Cozy up by the fire\, sip a glass of wine\, and enjoy live music in Cook Forest paired with fresh\, forest-to-table flavors — a truly memorable evening in Pennsylvania’s most peaceful woodland retreat.                                                                                                                                                                  11-12-26-| Thursday| Samantha Sears| 6-8pm
URL:https://brookvillechamber.com/event/live-music-at-gateway-lodge-31/
LOCATION:Gateway Lodge\, 14870 Route 36\, Cooksburg\, PA\, 16217\, United States
CATEGORIES:Food & Drink,Music
ATTACH;FMTTYPE=image/jpeg:https://brookvillechamber.com/wp-content/uploads/2025/02/gateway-lodge.jpg
END:VEVENT
BEGIN:VEVENT
DTSTART;TZID=America/New_York:20261127T180000
DTEND;TZID=America/New_York:20261127T200000
DTSTAMP:20260424T093829
CREATED:20260112T152155Z
LAST-MODIFIED:20260112T152155Z
UID:7305-1795802400-1795809600@brookvillechamber.com
SUMMARY:Live Music at Gateway Lodge
DESCRIPTION:Experience the warmth of Gateway Lodge with live music in Cook Forest on Thursday\, Friday\, or Saturday nights.\nLocal musicians bring the lodge to life with acoustic favorites and soulful originals while you dine from our Wild Crafter’s Kitchen menu\, featuring seasonal\, locally sourced dishes made in-house. Cozy up by the fire\, sip a glass of wine\, and enjoy live music in Cook Forest paired with fresh\, forest-to-table flavors — a truly memorable evening in Pennsylvania’s most peaceful woodland retreat                                                                                                                                   11-27-26-| Friday| Samantha Sears 6-8pm
URL:https://brookvillechamber.com/event/live-music-at-gateway-lodge-32/
LOCATION:Gateway Lodge\, 14870 Route 36\, Cooksburg\, PA\, 16217\, United States
CATEGORIES:Food & Drink,Music
ATTACH;FMTTYPE=image/jpeg:https://brookvillechamber.com/wp-content/uploads/2025/02/gateway-lodge.jpg
END:VEVENT
BEGIN:VEVENT
DTSTART;VALUE=DATE:20261128
DTEND;VALUE=DATE:20261129
DTSTAMP:20260424T093829
CREATED:20260423T150300Z
LAST-MODIFIED:20260423T150300Z
UID:8651-1795824000-1795910399@brookvillechamber.com
SUMMARY:Small Business Saturday
DESCRIPTION:This holiday season\, the Brookville Area Chamber of Commerce (BACC) is encouraging people to “think local first” and support small businesses that make the community strong.\nThe BACC will help promote shopping local for Small Business Saturday on Saturday\, Nov. 28 throughout the Brookville area .\nIn a world where it’s easy to click “add to cart” or standing in line at a big-box store\, it’s more important than ever to remember what happens when we choose to support the businesses right in Brookville.\n“We don’t have large chain restaurants or shopping malls in Brookville\,” said Jamie Popson\, executive director of the Brookville Area Chamber of Commerce\, “But\, what we do have is a warm smile that greets you\, genuine service from someone who knows your name\, a personal touch to help you find just the right thing\, and a shopping experience where you leave with more than your purchase\, you leave with a new friend.”\nSmall Business Weekend in Brookville will be filled with festive fun and community spirit. Shoppers can enjoy giveaways\, discounts\, specials\, and a free tote bag sponsored by local businesses eager to thank you for choosing local. It’s the perfect time to explore the variety Brookville has to offer\, discover unique holiday gifts\, and enjoy the charm of small-town shopping at its best. From curated vintage treasures and elegant home décor\, chic fashion\, luxurious fragrances\, intimate accessories\, gourmet treats\, and festive finds\, the Brookville area is full of surprises. Shoppers will discover outdoor gear and quality workwear featuring trusted brands and much more. Every corner of Brookville offers something special.\nSmall Business Weekend is more than a shopping event — it’s a celebration of community\, connection\, and the people who make Brookville feel like home.\nFor more details and event updates\, visit brookvillechamber.com.S
URL:https://brookvillechamber.com/event/small-business-saturday/
LOCATION:Brookville PA
CATEGORIES:BACC Event,Food & Drink,Holiday,Shopping
ATTACH;FMTTYPE=image/jpeg:https://brookvillechamber.com/wp-content/uploads/2026/04/shop-small-heart.jpg
END:VEVENT
BEGIN:VEVENT
DTSTART;TZID=America/New_York:20261205T120000
DTEND;TZID=America/New_York:20261205T160000
DTSTAMP:20260424T093829
CREATED:20260319T143617Z
LAST-MODIFIED:20260319T143617Z
UID:8127-1796472000-1796486400@brookvillechamber.com
SUMMARY:BACC Tasting Tour
DESCRIPTION:Sip\, Savor\, and Shop your way through Historic Downtown Brookville at the Brookville Chamber’s Annual Tasting Tour! Enjoy samples from regional wineries\, breweries\, and distilleries while strolling Main Street\, exploring local shops\, and taking in live music\, food trucks\, and festive holiday fun. VIP tickets offer early access and exclusive perks. Must be 21+ with valid ID. Get full details and tickets here: Learn More & Purchase Tickets\n\nBrookvilleTastingTour.com
URL:https://brookvillechamber.com/event/bacc-tasting-tour/
LOCATION:Main Street\, Brookville\, Main Street\, Brookville\, PA\, 15825\, United States
CATEGORIES:BACC Event,Food & Drink,Music,Shopping
ATTACH;FMTTYPE=image/png:https://brookvillechamber.com/wp-content/uploads/2026/03/Tasting-Tour-2026-1.png
END:VEVENT
BEGIN:VEVENT
DTSTART;TZID=America/New_York:20261205T180000
DTEND;TZID=America/New_York:20261205T200000
DTSTAMP:20260424T093829
CREATED:20260112T153220Z
LAST-MODIFIED:20260112T153220Z
UID:7307-1796493600-1796500800@brookvillechamber.com
SUMMARY:Live Music at Gateway Lodge
DESCRIPTION:Experience the warmth of Gateway Lodge with live music in Cook Forest on Thursday\, Friday\, or Saturday nights.\nLocal musicians bring the lodge to life with acoustic favorites and soulful originals while you dine from our Wild Crafter’s Kitchen menu\, featuring seasonal\, locally sourced dishes made in-house. Cozy up by the fire\, sip a glass of wine\, and enjoy live music in Cook Forest paired with fresh\, forest-to-table flavors — a truly memorable evening in Pennsylvania’s most peaceful woodland retreat.                                                                                                                                    12-05-26| Saturday| Mike Lesiles| 5-9pm                                                                                                                                                     Winter In The Woods Weekend Guestes Only
URL:https://brookvillechamber.com/event/live-music-at-gateway-lodge-33/
LOCATION:Gateway Lodge\, 14870 Route 36\, Cooksburg\, PA\, 16217\, United States
CATEGORIES:Food & Drink,Music
ATTACH;FMTTYPE=image/jpeg:https://brookvillechamber.com/wp-content/uploads/2025/02/gateway-lodge.jpg
END:VEVENT
BEGIN:VEVENT
DTSTART;TZID=America/New_York:20261226T170000
DTEND;TZID=America/New_York:20261226T210000
DTSTAMP:20260424T093829
CREATED:20260112T153750Z
LAST-MODIFIED:20260112T153750Z
UID:7309-1798304400-1798318800@brookvillechamber.com
SUMMARY:Live Music at Gateway Lodge
DESCRIPTION:Experience the warmth of Gateway Lodge with live music in Cook Forest on Thursday\, Friday\, or Saturday nights.\nLocal musicians bring the lodge to life with acoustic favorites and soulful originals while you dine from our Wild Crafter’s Kitchen menu\, featuring seasonal\, locally sourced dishes made in-house. Cozy up by the fire\, sip a glass of wine\, and enjoy live music in Cook Forest paired with fresh\, forest-to-table flavors — a truly memorable evening in Pennsylvania’s most peaceful woodland retreat                                                                                                                                                                               12-12-26-|Saturday| The Recten Walds| 5-9pm                                                                                                                            Winter In The Woods Weekend Guests Only
URL:https://brookvillechamber.com/event/live-music-at-gateway-lodge-34/
LOCATION:Gateway Lodge\, 14870 Route 36\, Cooksburg\, PA\, 16217\, United States
CATEGORIES:Food & Drink,Music
ATTACH;FMTTYPE=image/jpeg:https://brookvillechamber.com/wp-content/uploads/2025/02/gateway-lodge.jpg
END:VEVENT
END:VCALENDAR