BEGIN:VCALENDAR
VERSION:2.0
PRODID:-//brookvillechamber.com - ECPv6.15.20//NONSGML v1.0//EN
CALSCALE:GREGORIAN
METHOD:PUBLISH
X-ORIGINAL-URL:https://brookvillechamber.com
X-WR-CALDESC:Events for brookvillechamber.com
REFRESH-INTERVAL;VALUE=DURATION:PT1H
X-Robots-Tag:noindex
X-PUBLISHED-TTL:PT1H
BEGIN:VTIMEZONE
TZID:America/New_York
BEGIN:DAYLIGHT
TZOFFSETFROM:-0500
TZOFFSETTO:-0400
TZNAME:EDT
DTSTART:20250309T070000
END:DAYLIGHT
BEGIN:STANDARD
TZOFFSETFROM:-0400
TZOFFSETTO:-0500
TZNAME:EST
DTSTART:20251102T060000
END:STANDARD
BEGIN:DAYLIGHT
TZOFFSETFROM:-0500
TZOFFSETTO:-0400
TZNAME:EDT
DTSTART:20260308T070000
END:DAYLIGHT
BEGIN:STANDARD
TZOFFSETFROM:-0400
TZOFFSETTO:-0500
TZNAME:EST
DTSTART:20261101T060000
END:STANDARD
BEGIN:DAYLIGHT
TZOFFSETFROM:-0500
TZOFFSETTO:-0400
TZNAME:EDT
DTSTART:20270314T070000
END:DAYLIGHT
BEGIN:STANDARD
TZOFFSETFROM:-0400
TZOFFSETTO:-0500
TZNAME:EST
DTSTART:20271107T060000
END:STANDARD
END:VTIMEZONE
BEGIN:VEVENT
DTSTART;TZID=America/New_York:20261226T170000
DTEND;TZID=America/New_York:20261226T210000
DTSTAMP:20260421T150953
CREATED:20260112T153750Z
LAST-MODIFIED:20260112T153750Z
UID:7309-1798304400-1798318800@brookvillechamber.com
SUMMARY:Live Music at Gateway Lodge
DESCRIPTION:Experience the warmth of Gateway Lodge with live music in Cook Forest on Thursday\, Friday\, or Saturday nights.\nLocal musicians bring the lodge to life with acoustic favorites and soulful originals while you dine from our Wild Crafter’s Kitchen menu\, featuring seasonal\, locally sourced dishes made in-house. Cozy up by the fire\, sip a glass of wine\, and enjoy live music in Cook Forest paired with fresh\, forest-to-table flavors — a truly memorable evening in Pennsylvania’s most peaceful woodland retreat                                                                                                                                                                               12-12-26-|Saturday| The Recten Walds| 5-9pm                                                                                                                            Winter In The Woods Weekend Guests Only
URL:https://brookvillechamber.com/event/live-music-at-gateway-lodge-34/
LOCATION:Gateway Lodge\, 14870 Route 36\, Cooksburg\, PA\, 16217\, United States
CATEGORIES:Food & Drink,Music
ATTACH;FMTTYPE=image/jpeg:https://brookvillechamber.com/wp-content/uploads/2025/02/gateway-lodge.jpg
END:VEVENT
END:VCALENDAR