BEGIN:VCALENDAR
VERSION:2.0
PRODID:-//brookvillechamber.com - ECPv6.15.20//NONSGML v1.0//EN
CALSCALE:GREGORIAN
METHOD:PUBLISH
X-WR-CALNAME:brookvillechamber.com
X-ORIGINAL-URL:https://brookvillechamber.com
X-WR-CALDESC:Events for brookvillechamber.com
REFRESH-INTERVAL;VALUE=DURATION:PT1H
X-Robots-Tag:noindex
X-PUBLISHED-TTL:PT1H
BEGIN:VTIMEZONE
TZID:America/New_York
BEGIN:DAYLIGHT
TZOFFSETFROM:-0500
TZOFFSETTO:-0400
TZNAME:EDT
DTSTART:20250309T070000
END:DAYLIGHT
BEGIN:STANDARD
TZOFFSETFROM:-0400
TZOFFSETTO:-0500
TZNAME:EST
DTSTART:20251102T060000
END:STANDARD
BEGIN:DAYLIGHT
TZOFFSETFROM:-0500
TZOFFSETTO:-0400
TZNAME:EDT
DTSTART:20260308T070000
END:DAYLIGHT
BEGIN:STANDARD
TZOFFSETFROM:-0400
TZOFFSETTO:-0500
TZNAME:EST
DTSTART:20261101T060000
END:STANDARD
BEGIN:DAYLIGHT
TZOFFSETFROM:-0500
TZOFFSETTO:-0400
TZNAME:EDT
DTSTART:20270314T070000
END:DAYLIGHT
BEGIN:STANDARD
TZOFFSETFROM:-0400
TZOFFSETTO:-0500
TZNAME:EST
DTSTART:20271107T060000
END:STANDARD
END:VTIMEZONE
BEGIN:VEVENT
DTSTART;TZID=America/New_York:20260422T180000
DTEND;TZID=America/New_York:20260422T200000
DTSTAMP:20260421T215415
CREATED:20260324T133305Z
LAST-MODIFIED:20260324T133305Z
UID:8225-1776880800-1776888000@brookvillechamber.com
SUMMARY:Paint & Sip
DESCRIPTION:Wilson’s Woodshed Paint & Sip! We will be painting a flower sitter. Perfect for spring/ summer decor or Mother’s Day! Our paint and sip is perfect for beginners and experienced painters! We offer suggestions and support but you create your piece how you see it. Our main goal is to have fun! So if you’re ready for a fun night out with some paint\, wine\, and lots of laughs… join us!!\nOnly lucky paint and sipper will win a free paint and sip in the future! Our guests for the night are able to shop the store for 15% off!\nApril 22nd from 6pm-8pm\n50 (includes wooden flower w/ stand\, 2 glasses of wine\, and light refreshments)\nSign up in the store or send us a message! Spaces are limited.
URL:https://brookvillechamber.com/event/paint-sip/
LOCATION:Wilson’s Woodshed
CATEGORIES:Educational,Food & Drink,Shopping
ATTACH;FMTTYPE=image/jpeg:https://brookvillechamber.com/wp-content/uploads/2026/03/Wilson-Woodshed-paint-sip-april.jpg
END:VEVENT
END:VCALENDAR