BEGIN:VCALENDAR
VERSION:2.0
PRODID:-//brookvillechamber.com - ECPv6.15.20//NONSGML v1.0//EN
CALSCALE:GREGORIAN
METHOD:PUBLISH
X-WR-CALNAME:brookvillechamber.com
X-ORIGINAL-URL:https://brookvillechamber.com
X-WR-CALDESC:Events for brookvillechamber.com
REFRESH-INTERVAL;VALUE=DURATION:PT1H
X-Robots-Tag:noindex
X-PUBLISHED-TTL:PT1H
BEGIN:VTIMEZONE
TZID:America/New_York
BEGIN:DAYLIGHT
TZOFFSETFROM:-0500
TZOFFSETTO:-0400
TZNAME:EDT
DTSTART:20250309T070000
END:DAYLIGHT
BEGIN:STANDARD
TZOFFSETFROM:-0400
TZOFFSETTO:-0500
TZNAME:EST
DTSTART:20251102T060000
END:STANDARD
BEGIN:DAYLIGHT
TZOFFSETFROM:-0500
TZOFFSETTO:-0400
TZNAME:EDT
DTSTART:20260308T070000
END:DAYLIGHT
BEGIN:STANDARD
TZOFFSETFROM:-0400
TZOFFSETTO:-0500
TZNAME:EST
DTSTART:20261101T060000
END:STANDARD
BEGIN:DAYLIGHT
TZOFFSETFROM:-0500
TZOFFSETTO:-0400
TZNAME:EDT
DTSTART:20270314T070000
END:DAYLIGHT
BEGIN:STANDARD
TZOFFSETFROM:-0400
TZOFFSETTO:-0500
TZNAME:EST
DTSTART:20271107T060000
END:STANDARD
END:VTIMEZONE
BEGIN:VEVENT
DTSTART;VALUE=DATE:20260424
DTEND;VALUE=DATE:20260427
DTSTAMP:20260421T215447
CREATED:20260413T134633Z
LAST-MODIFIED:20260413T134633Z
UID:8493-1776988800-1777247999@brookvillechamber.com
SUMMARY:Wine and Dine Weekend
DESCRIPTION:April Wine and Dine Weekend\, April 24th to April 26th\, invites you to lighten your step and reconnect with those that matter most. The days are warmer and the feeling of Spring lifts our spirits. It’s a perfect time to enjoy a weekend of fabulous wine\, delicious farm-to-table fare\, and live entertainment.\nNearby\, be sure to visit Rimrock Overlook in the Allegheny National Forest. Also in the Allegheny Forest is Pigeon Falls\, a spot worth seeing if you are adventurous. And for the ultimate view\, a drive to the Kinzua skywalk should definitely be on your bucket list. If you want to try some local wines while driving about\, check out these local wineries. \nAt last\, when you come back from your day of exploring the PA Wilds\, cozy in a plush couch in Gateway’s Great Room or unwind with a game of pool in the Billiards Room. Now is your chance to wine and dine this Spring at “April Wine and Dine Weekend” at Gateway Lodge. Reserve below or call 814-744-8017 for assistance. We look forward to seeing you! \nPackage Highlights\n\nTwo Nights in a Fireside Suite\nBreakfast Delivered Each Morning\nThree-Course Dinner on Saturday with Wine Pairings\nLive Music on Saturday with Dinner
URL:https://brookvillechamber.com/event/wine-and-dine-weekend/
LOCATION:Gateway Lodge\, 14870 Route 36\, Cooksburg\, PA\, 16217\, United States
CATEGORIES:Food & Drink,Music,Nature & Wildlife,Outdoor & Trail
ATTACH;FMTTYPE=image/jpeg:https://brookvillechamber.com/wp-content/uploads/2026/04/unnamed.jpg
END:VEVENT
BEGIN:VEVENT
DTSTART;TZID=America/New_York:20260423T100000
DTEND;TZID=America/New_York:20260423T120000
DTSTAMP:20260421T215447
CREATED:20260401T133507Z
LAST-MODIFIED:20260401T133507Z
UID:8337-1776938400-1776945600@brookvillechamber.com
SUMMARY:OSHA: Personal Protective Equipment
DESCRIPTION:Date: 4/23/2026\nTime: 10:00 AM – 12:00 PM (EDT)\nStatus: Open – 190 places remaining\nRegistration Deadline: 4/23/2026 5:00 PM (EDT) \nPoint of Contact: Cindy Nellis (814) 393-2060 \nProgram Format: Online Meeting (Live)\nTraining Topics: Business Start-up/Preplanning\, Human Resources/Managing Employees\, Managing a Business\, Manufacturing/Onshoring\, Other\, Risk Management\nDescription: \n\nProper use of Personal Protective Equipment (PPE) is a critical component of workplace safety and OSHA compliance. This webinar will cover OSHA PPE standards\, how to conduct effective hazard assessments\, and how to select and maintain the right protective equipment. Attendees will also learn about employee training requirements and newer considerations\, including ensuring proper fit for today’s diverse workforce. \nSpeakers:\nMark Harmon\, Compliance Assistance Specialist (CAS)\, Federal OSHA Erie Area Office\nDavid M. Yanoschick Jr.\, CSP\, SHARP Outreach Coordinator\, PA OSHA Consultation Program\, Indiana University of Pennsylvania\n\nInstructions:After you have registered via Zoom\, you will receive a link to the webinar. \n  \n\n \nRegistration Policies:\nRegistration and Fees: Payment of seminar fees may be made by check\, money order or credit card. We ask that the seminar fee be paid prior to the event to guarantee your space. You may send a check payable to ‘PennWest University’ to the following address: \nAttention: PennWest University – Clarion SBDC Training Coordinator \nPennWest University \n896 E. Main Street \nClarion PA 16214-3873 \nCancellation/Refund Policy: Cancellation/Refund Policy: \nIf you are registered for a class or webinar and are unable to attend\, please notify the Small Business Development Center\, before the event\, at (814) 393-2060 as other applicants may be waiting for the course. Substitutions can be made at any time. \nThe following cancellation/rescheduling policy apply to all face to face classes unless noted otherwise: * Five (5) or more business days notice: Full Refund or may reschedule for a class that is within the calendar year. Less than five (5) days notice\, no refund. \nSpecial Accommodations: In accordance with the American Disabilities Act and state law\, you may request accommodations due to a disability by contacting the event organizer listed above. Advance notice may be necessary for some accommodations. Registration must be paid prior to accommodation requests. \nAcknowledgments\nPennsylvania Small Business Development Centers are funded in part through a cooperative agreement with the U.S. Small Business Administration\, by the Commonwealth of Pennsylvania through the Department of Community & Economic Development\, through support from Service Center host institutions\, and by other sources of state and federal funding. All opinions\, conclusions\, and/or recommendations expressed herein are those of the author(s) and do not necessarily reflect the views of the SBA. \nThis training event is supported by federal taxpayer funds. By registering\, I recognize that services are provided in a nondiscriminatory way to all legal residents and citizens in the U.S. and I understand that Small Business Development Centers are prohibited from providing services funded by taxpayer dollars to individuals not lawfully present in the United States.
URL:https://brookvillechamber.com/event/osha-personal-protective-equipment/
ATTACH;FMTTYPE=image/png:https://brookvillechamber.com/wp-content/uploads/2026/04/image_E35C00CD-FABC-4996-AABE-5477F0B74220.png
END:VEVENT
BEGIN:VEVENT
DTSTART;TZID=America/New_York:20260422T180000
DTEND;TZID=America/New_York:20260422T200000
DTSTAMP:20260421T215447
CREATED:20260324T133305Z
LAST-MODIFIED:20260324T133305Z
UID:8225-1776880800-1776888000@brookvillechamber.com
SUMMARY:Paint & Sip
DESCRIPTION:Wilson’s Woodshed Paint & Sip! We will be painting a flower sitter. Perfect for spring/ summer decor or Mother’s Day! Our paint and sip is perfect for beginners and experienced painters! We offer suggestions and support but you create your piece how you see it. Our main goal is to have fun! So if you’re ready for a fun night out with some paint\, wine\, and lots of laughs… join us!!\nOnly lucky paint and sipper will win a free paint and sip in the future! Our guests for the night are able to shop the store for 15% off!\nApril 22nd from 6pm-8pm\n50 (includes wooden flower w/ stand\, 2 glasses of wine\, and light refreshments)\nSign up in the store or send us a message! Spaces are limited.
URL:https://brookvillechamber.com/event/paint-sip/
LOCATION:Wilson’s Woodshed
CATEGORIES:Educational,Food & Drink,Shopping
ATTACH;FMTTYPE=image/jpeg:https://brookvillechamber.com/wp-content/uploads/2026/03/Wilson-Woodshed-paint-sip-april.jpg
END:VEVENT
END:VCALENDAR