BEGIN:VCALENDAR
VERSION:2.0
PRODID:-//brookvillechamber.com - ECPv6.15.20//NONSGML v1.0//EN
CALSCALE:GREGORIAN
METHOD:PUBLISH
X-WR-CALNAME:brookvillechamber.com
X-ORIGINAL-URL:https://brookvillechamber.com
X-WR-CALDESC:Events for brookvillechamber.com
REFRESH-INTERVAL;VALUE=DURATION:PT1H
X-Robots-Tag:noindex
X-PUBLISHED-TTL:PT1H
BEGIN:VTIMEZONE
TZID:America/New_York
BEGIN:DAYLIGHT
TZOFFSETFROM:-0500
TZOFFSETTO:-0400
TZNAME:EDT
DTSTART:20250309T070000
END:DAYLIGHT
BEGIN:STANDARD
TZOFFSETFROM:-0400
TZOFFSETTO:-0500
TZNAME:EST
DTSTART:20251102T060000
END:STANDARD
BEGIN:DAYLIGHT
TZOFFSETFROM:-0500
TZOFFSETTO:-0400
TZNAME:EDT
DTSTART:20260308T070000
END:DAYLIGHT
BEGIN:STANDARD
TZOFFSETFROM:-0400
TZOFFSETTO:-0500
TZNAME:EST
DTSTART:20261101T060000
END:STANDARD
BEGIN:DAYLIGHT
TZOFFSETFROM:-0500
TZOFFSETTO:-0400
TZNAME:EDT
DTSTART:20270314T070000
END:DAYLIGHT
BEGIN:STANDARD
TZOFFSETFROM:-0400
TZOFFSETTO:-0500
TZNAME:EST
DTSTART:20271107T060000
END:STANDARD
END:VTIMEZONE
BEGIN:VEVENT
DTSTART;TZID=America/New_York:20260606T090000
DTEND;TZID=America/New_York:20260607T160000
DTSTAMP:20260422T132202
CREATED:20260409T152018Z
LAST-MODIFIED:20260409T152018Z
UID:8474-1780736400-1780848000@brookvillechamber.com
SUMMARY:Herb And Fiber Festiveal
DESCRIPTION:Event by Cook Forest Sawmill Center for the Arts\n\n\n\n\n\n\n\n\n\n\n\n170 Theatre Lane\, Cooksburg\, PA\, United States\, Pennsylvania 16217\n\n\n\n\n\n\n\n\n\n\n\nDuration: 2 days\n\n\n\n\n\n\n\n\n\n\n\nPublic  · Anyone on or off Facebook\n\n\n\n\n\n\n\nOpen Saturday June 6 from 9am-4pm and Sunday June 7 from 10am-3pm. This marks the 41st year for this festival. There will be hanging baskets\, annuals\, perennials\, shrubs\, herbs\, vegetable plants\, garden decor\, home decor\, and more. Anything you need to get your garden\, flower beds\, yard\, and house ready for summer
URL:https://brookvillechamber.com/event/herb-and-fiber-festiveal/
LOCATION:Cooks Forest Sawmill Center For The Arts
CATEGORIES:Educational,Shopping
ATTACH;FMTTYPE=image/jpeg:https://brookvillechamber.com/wp-content/uploads/2026/04/668754348_1364469529039148_3331822337457746853_n.jpg
END:VEVENT
END:VCALENDAR