BEGIN:VCALENDAR
VERSION:2.0
PRODID:-//brookvillechamber.com - ECPv6.15.20//NONSGML v1.0//EN
CALSCALE:GREGORIAN
METHOD:PUBLISH
X-WR-CALNAME:brookvillechamber.com
X-ORIGINAL-URL:https://brookvillechamber.com
X-WR-CALDESC:Events for brookvillechamber.com
REFRESH-INTERVAL;VALUE=DURATION:PT1H
X-Robots-Tag:noindex
X-PUBLISHED-TTL:PT1H
BEGIN:VTIMEZONE
TZID:America/New_York
BEGIN:DAYLIGHT
TZOFFSETFROM:-0500
TZOFFSETTO:-0400
TZNAME:EDT
DTSTART:20250309T070000
END:DAYLIGHT
BEGIN:STANDARD
TZOFFSETFROM:-0400
TZOFFSETTO:-0500
TZNAME:EST
DTSTART:20251102T060000
END:STANDARD
BEGIN:DAYLIGHT
TZOFFSETFROM:-0500
TZOFFSETTO:-0400
TZNAME:EDT
DTSTART:20260308T070000
END:DAYLIGHT
BEGIN:STANDARD
TZOFFSETFROM:-0400
TZOFFSETTO:-0500
TZNAME:EST
DTSTART:20261101T060000
END:STANDARD
BEGIN:DAYLIGHT
TZOFFSETFROM:-0500
TZOFFSETTO:-0400
TZNAME:EDT
DTSTART:20270314T070000
END:DAYLIGHT
BEGIN:STANDARD
TZOFFSETFROM:-0400
TZOFFSETTO:-0500
TZNAME:EST
DTSTART:20271107T060000
END:STANDARD
END:VTIMEZONE
BEGIN:VEVENT
DTSTART;TZID=America/New_York:20261002T160000
DTEND;TZID=America/New_York:20261002T190000
DTSTAMP:20260422T183953
CREATED:20260205T172519Z
LAST-MODIFIED:20260306T140257Z
UID:7553-1790956800-1790967600@brookvillechamber.com
SUMMARY:Farmers Market
DESCRIPTION:Farmers Market On Fridays\,4:oopm till 7;oopm May through October If you would liketo set up to sell your home-made or home-grown products\, please call 814-849-0915
URL:https://brookvillechamber.com/event/farmers-market-25/
LOCATION:Blackbird Distillery\, 93 Blackout Alley\, Brookville\, PA\, 15825\, United States
CATEGORIES:Food & Drink,Shopping
ATTACH;FMTTYPE=image/jpeg:https://brookvillechamber.com/wp-content/uploads/2026/02/farmers-market-eat-local.jpg
END:VEVENT
BEGIN:VEVENT
DTSTART;VALUE=DATE:20261003
DTEND;VALUE=DATE:20261005
DTSTAMP:20260422T183953
CREATED:20260401T164731Z
LAST-MODIFIED:20260414T141123Z
UID:8374-1790985600-1791158399@brookvillechamber.com
SUMMARY:Hazen Flea Market
DESCRIPTION:The Hazen Flea Market is back for the 2026 season—mark your calendar and come treasure hunting! Held one weekend each month from May through October\, this beloved Brookville tradition brings together vendors\, antiques\, handmade goods\, fresh finds\, and one-of-a-kind pieces you won’t find anywhere else. Whether you’re browsing\, shopping\, or just soaking in the atmosphere\, there’s something for everyone to enjoy.\nInterested in becoming a vendor? Call 814-328-2528 for more information and to reserve your spot!\n\n\n  \nhazenflea.com\n\n\n\nLocated at 6847 Route 28 N\, Brookville\, PA\, this event is hosted by the Warsaw Township Volunteer Fire Company and usually features shopping from 7 AM to mid-afternoon. \n\n\n\n\n\n. 
URL:https://brookvillechamber.com/event/hazen-flea-market-6/
LOCATION:Hazen Flea Market
CATEGORIES:Fairs & Festivals,Food & Drink,Shopping
ATTACH;FMTTYPE=image/jpeg:https://brookvillechamber.com/wp-content/uploads/2026/04/Hazen-Flea-Market-2.jpg
END:VEVENT
BEGIN:VEVENT
DTSTART;TZID=America/New_York:20261009T160000
DTEND;TZID=America/New_York:20261009T190000
DTSTAMP:20260422T183953
CREATED:20260205T172719Z
LAST-MODIFIED:20260306T140224Z
UID:7555-1791561600-1791572400@brookvillechamber.com
SUMMARY:Farmers Market
DESCRIPTION:Farmers Market On Fridays\,4:oopm till 7;oopm May through October If you would liketo set up to sell your home-made or home-grown products\, please call 814-849-0915
URL:https://brookvillechamber.com/event/farmers-market-26/
LOCATION:Blackbird Distillery\, 93 Blackout Alley\, Brookville\, PA\, 15825\, United States
CATEGORIES:Food & Drink,Shopping
ATTACH;FMTTYPE=image/jpeg:https://brookvillechamber.com/wp-content/uploads/2026/02/farmers-market-eat-local.jpg
END:VEVENT
BEGIN:VEVENT
DTSTART;TZID=America/New_York:20261015T070000
DTEND;TZID=America/New_York:20261017T200000
DTSTAMP:20260422T183953
CREATED:20260227T152003Z
LAST-MODIFIED:20260305T173612Z
UID:7787-1792047600-1792267200@brookvillechamber.com
SUMMARY:Coolspring Power Museums Fall Exposition&Swap Meet
DESCRIPTION:2026 Fall Exposition & Swap Meet \nOctober 15\, 16\, and 17\, 2026 \n\n\nSingle-Day Adult Admission – $12 \nThree-Day Adult Admission Pass – $30 \nChildren under 12 years and Members – Free \nSeller’s Fee – $40 \nHours of operation for the Exposition are\n7 a.m. to 8 p.m on October 15 and 16 (Thursday and Friday)\n7 a.m. to 3 p.m. on October 17 (Saturday) \nThe Swap Meet occurs on October 15 and 16 \nPrior to the Exposition the museum gate will be open for visitors on October 14 (Wednesday)\nfrom 10 a.m. to 3 p.m. \nPlease note: The museum is closed on Sunday\, October 18
URL:https://brookvillechamber.com/event/coolspring-power-museums-fall-expositionswap-meet/
LOCATION:Coolspring Power Museum\, 179 Coolspring Road\, Coolspring\, 15730
CATEGORIES:Educational,Food & Drink,Kid's Event,Museum,Shopping
ATTACH;FMTTYPE=image/jpeg:https://brookvillechamber.com/wp-content/uploads/2025/01/Coolspring-Power-Museum-logo.jpg
END:VEVENT
BEGIN:VEVENT
DTSTART;TZID=America/New_York:20261024T160000
DTEND;TZID=America/New_York:20261024T190000
DTSTAMP:20260422T183953
CREATED:20260205T173112Z
LAST-MODIFIED:20260306T140020Z
UID:7559-1792857600-1792868400@brookvillechamber.com
SUMMARY:Farmers Market
DESCRIPTION:Farmers Market On Fridays\,4:oopm till 7;oopm May through October If you would liketo set up to sell your home-made or home-grown products\, please call 814-849-0915
URL:https://brookvillechamber.com/event/farmers-market-28/
LOCATION:Blackbird Distillery\, 93 Blackout Alley\, Brookville\, PA\, 15825\, United States
CATEGORIES:Food & Drink,Shopping
ATTACH;FMTTYPE=image/jpeg:https://brookvillechamber.com/wp-content/uploads/2026/02/farmers-market-eat-local.jpg
END:VEVENT
BEGIN:VEVENT
DTSTART;TZID=America/New_York:20261030T160000
DTEND;TZID=America/New_York:20261030T190000
DTSTAMP:20260422T183953
CREATED:20260205T173316Z
LAST-MODIFIED:20260306T135943Z
UID:7561-1793376000-1793386800@brookvillechamber.com
SUMMARY:Farmers Market
DESCRIPTION:Farmers Market On Fridays\,4:oopm till 7;oopm May through October If you would liketo set up to sell your home-made or home-grown products\, please call 814-849-0915
URL:https://brookvillechamber.com/event/farmers-market-29/
LOCATION:Blackbird Distillery\, 93 Blackout Alley\, Brookville\, PA\, 15825\, United States
CATEGORIES:Food & Drink,Shopping
ATTACH;FMTTYPE=image/jpeg:https://brookvillechamber.com/wp-content/uploads/2026/02/farmers-market-eat-local.jpg
END:VEVENT
END:VCALENDAR