BEGIN:VCALENDAR
VERSION:2.0
PRODID:-//brookvillechamber.com - ECPv6.15.20//NONSGML v1.0//EN
CALSCALE:GREGORIAN
METHOD:PUBLISH
X-ORIGINAL-URL:https://brookvillechamber.com
X-WR-CALDESC:Events for brookvillechamber.com
REFRESH-INTERVAL;VALUE=DURATION:PT1H
X-Robots-Tag:noindex
X-PUBLISHED-TTL:PT1H
BEGIN:VTIMEZONE
TZID:America/New_York
BEGIN:DAYLIGHT
TZOFFSETFROM:-0500
TZOFFSETTO:-0400
TZNAME:EDT
DTSTART:20250309T070000
END:DAYLIGHT
BEGIN:STANDARD
TZOFFSETFROM:-0400
TZOFFSETTO:-0500
TZNAME:EST
DTSTART:20251102T060000
END:STANDARD
BEGIN:DAYLIGHT
TZOFFSETFROM:-0500
TZOFFSETTO:-0400
TZNAME:EDT
DTSTART:20260308T070000
END:DAYLIGHT
BEGIN:STANDARD
TZOFFSETFROM:-0400
TZOFFSETTO:-0500
TZNAME:EST
DTSTART:20261101T060000
END:STANDARD
BEGIN:DAYLIGHT
TZOFFSETFROM:-0500
TZOFFSETTO:-0400
TZNAME:EDT
DTSTART:20270314T070000
END:DAYLIGHT
BEGIN:STANDARD
TZOFFSETFROM:-0400
TZOFFSETTO:-0500
TZNAME:EST
DTSTART:20271107T060000
END:STANDARD
END:VTIMEZONE
BEGIN:VEVENT
DTSTART;TZID=America/New_York:20260712T170000
DTEND;TZID=America/New_York:20260712T180000
DTSTAMP:20260421T065400
CREATED:20260319T132234Z
LAST-MODIFIED:20260319T132234Z
UID:8113-1783875600-1783879200@brookvillechamber.com
SUMMARY:Womens'Hike Series
DESCRIPTION:July 12\,2026\nhttps://events.dcnr.pa.gov/event/womens-hiking-series\nCome Nurture your Mental and Physical health during a Sunday evening hike. We will meet at the Ridge Camp Pavilion\, in Cook Forest State Park. (Across from the entrance to the Firepower on Rt. 36) Moderate Level Hiking with some rough terrain and a few hills (Not a paved level path). Approximately 2 hours long. Open to all women ages 14 and up. Dogs on a leash. Rain or Shine! Weather permitting and pending interest of the group\, we will branch off into two groups. One group will venture onto a more rigorous path while the other group will continue on a path to relax and enjoy being in nature. For more information please contact Meredith at: reinhartmeredith24@gmail.com or (814) 319-4621
URL:https://brookvillechamber.com/event/womenshike-series-2/
LOCATION:Cook Forest State Park\, 100 PA 36\, Cooksburg\, PA\, 16217\, United States
CATEGORIES:Educational,Health & Wellness,Nature & Wildlife,Outdoor & Trail
ATTACH;FMTTYPE=image/jpeg:https://brookvillechamber.com/wp-content/uploads/2026/03/womens-hike-series-6.jpg
ORGANIZER;CN="Cook Forest State Park":MAILTO:cookforestsp@pa.gov
END:VEVENT
BEGIN:VEVENT
DTSTART;TZID=America/New_York:20260718T080000
DTEND;TZID=America/New_York:20260718T140000
DTSTAMP:20260421T065400
CREATED:20260319T181103Z
LAST-MODIFIED:20260319T181103Z
UID:8157-1784361600-1784383200@brookvillechamber.com
SUMMARY:2nd Annual Jake Popson Memorial Bow Shoot
DESCRIPTION:2nd Annual Jake Popson Memorial Bow Shoot\nJoin us for a day of archery\, community\, and remembrance!\nWhether you’re a seasoned archer or just looking for a great day outdoors\, the Jake Popson Memorial Bow Shoot offers a unique experience for everyone. This event honors Jake’s legacy with a day of friendly competition on a scenic 30-target 3-D course\, complete with quirky challenges and precision novelty shoots.\nEvent Details:\n\n\nWhen: Saturday\, July 18\, 2026\n\n\nTime: 8:00 AM – 2:00 PM (Scorecards due by 2:00 PM)\n\n\nWhere: 769 Smail Road\, Corsica\, PA\n\n\nFood: Complimentary meal for all registered shooters (12:00 PM – 3:00 PM)\n\n\nHighlights & Challenges:\n\n\n3-D Course: 30 targets set through beautiful\, scenic terrain.\n\n\nIron Target Challenge: A high-stakes elimination shoot at 2:30 PM for a chance to win prizes.\n\n\nNovelty Shoots: Test your skills with the Inside Out and Rat Trap challenges.\n\n\nAuction & Prizes: Participate in the Chinese Auction and various archery raffles.\n\n\nRegistration: Pre-register online to secure an exclusive event T-shirt\, or register on-site the day of the event for $30. Please note that this is a hunter stake course—traditional and compound bows only (no crossbows or competition bows).\nAll proceeds benefit the Jake Popson Memorial. Bring your bow\, your friends\, and your competitive spirit!\n Click here to register and view full event details
URL:https://brookvillechamber.com/event/2nd-annual-jake-popson-memorial-bow-shoot/
LOCATION:769 Smail Road\, Corsica\,  Pa
CATEGORIES:Educational,Food & Drink,Nature & Wildlife,Outdoor & Trail
ATTACH;FMTTYPE=image/png:https://brookvillechamber.com/wp-content/uploads/2026/03/2026-JHP-Bow-Shoot-square.png
END:VEVENT
BEGIN:VEVENT
DTSTART;TZID=America/New_York:20260816T080000
DTEND;TZID=America/New_York:20260816T170000
DTSTAMP:20260421T065400
CREATED:20260319T132459Z
LAST-MODIFIED:20260319T132459Z
UID:8115-1786867200-1786899600@brookvillechamber.com
SUMMARY:Women's Hike Series
DESCRIPTION:Aug.16\,2026\nhttps://events.dcnr.pa.gov/event/womens-hiking-series\nCome Nurture your Mental and Physical health during a Sunday evening hike. We will meet at the Ridge Camp Pavilion\, in Cook Forest State Park. (Across from the entrance to the Firepower on Rt. 36) Moderate Level Hiking with some rough terrain and a few hills (Not a paved level path). Approximately 2 hours long. Open to all women ages 14 and up. Dogs on a leash. Rain or Shine! Weather permitting and pending interest of the group\, we will branch off into two groups. One group will venture onto a more rigorous path while the other group will continue on a path to relax and enjoy being in nature. For more information please contact Meredith at: reinhartmeredith24@gmail.com or (814) 319-4621
URL:https://brookvillechamber.com/event/womens-hike-series-2/
LOCATION:Cook Forest State Park\, 100 PA 36\, Cooksburg\, PA\, 16217\, United States
CATEGORIES:Educational,Health & Wellness,Nature & Wildlife,Outdoor & Trail
ATTACH;FMTTYPE=image/jpeg:https://brookvillechamber.com/wp-content/uploads/2026/03/womens-hike-series-6.jpg
ORGANIZER;CN="Cook Forest State Park":MAILTO:cookforestsp@pa.gov
END:VEVENT
BEGIN:VEVENT
DTSTART;TZID=America/New_York:20260927T170000
DTEND;TZID=America/New_York:20260927T190000
DTSTAMP:20260421T065400
CREATED:20260319T132949Z
LAST-MODIFIED:20260319T132949Z
UID:8117-1790528400-1790535600@brookvillechamber.com
SUMMARY:Women's Hike Series
DESCRIPTION:Sep.27\,2026\nhttps://events.dcnr.pa.gov/event/womens-hiking-series\nCome Nurture your Mental and Physical health during a Sunday evening hike. We will meet at the Ridge Camp Pavilion\, in Cook Forest State Park. (Across from the entrance to the Firepower on Rt. 36) Moderate Level Hiking with some rough terrain and a few hills (Not a paved level path). Approximately 2 hours long. Open to all women ages 14 and up. Dogs on a leash. Rain or Shine! Weather permitting and pending interest of the group\, we will branch off into two groups. One group will venture onto a more rigorous path while the other group will continue on a path to relax and enjoy being in nature. For more information please contact Meredith at: reinhartmeredith24@gmail.com or (814) 319-4621
URL:https://brookvillechamber.com/event/womens-hike-series-3/
LOCATION:Cook Forest State Park\, 100 PA 36\, Cooksburg\, PA\, 16217\, United States
CATEGORIES:Educational,Health & Wellness,Nature & Wildlife,Outdoor & Trail
ATTACH;FMTTYPE=image/jpeg:https://brookvillechamber.com/wp-content/uploads/2026/03/womens-hike-series-6.jpg
ORGANIZER;CN="Cook Forest State Park":MAILTO:cookforestsp@pa.gov
END:VEVENT
END:VCALENDAR