BEGIN:VCALENDAR
VERSION:2.0
PRODID:-//brookvillechamber.com - ECPv6.15.20//NONSGML v1.0//EN
CALSCALE:GREGORIAN
METHOD:PUBLISH
X-ORIGINAL-URL:https://brookvillechamber.com
X-WR-CALDESC:Events for brookvillechamber.com
REFRESH-INTERVAL;VALUE=DURATION:PT1H
X-Robots-Tag:noindex
X-PUBLISHED-TTL:PT1H
BEGIN:VTIMEZONE
TZID:America/New_York
BEGIN:DAYLIGHT
TZOFFSETFROM:-0500
TZOFFSETTO:-0400
TZNAME:EDT
DTSTART:20250309T070000
END:DAYLIGHT
BEGIN:STANDARD
TZOFFSETFROM:-0400
TZOFFSETTO:-0500
TZNAME:EST
DTSTART:20251102T060000
END:STANDARD
BEGIN:DAYLIGHT
TZOFFSETFROM:-0500
TZOFFSETTO:-0400
TZNAME:EDT
DTSTART:20260308T070000
END:DAYLIGHT
BEGIN:STANDARD
TZOFFSETFROM:-0400
TZOFFSETTO:-0500
TZNAME:EST
DTSTART:20261101T060000
END:STANDARD
BEGIN:DAYLIGHT
TZOFFSETFROM:-0500
TZOFFSETTO:-0400
TZNAME:EDT
DTSTART:20270314T070000
END:DAYLIGHT
BEGIN:STANDARD
TZOFFSETFROM:-0400
TZOFFSETTO:-0500
TZNAME:EST
DTSTART:20271107T060000
END:STANDARD
END:VTIMEZONE
BEGIN:VEVENT
DTSTART;VALUE=DATE:20260503
DTEND;VALUE=DATE:20260504
DTSTAMP:20260421T113512
CREATED:20260415T171218Z
LAST-MODIFIED:20260415T171218Z
UID:8592-1777766400-1777852799@brookvillechamber.com
SUMMARY:Veterans & First Responders Fishing Derby
DESCRIPTION:Veterans and first responders fishing derby in Cook Forest\, \n\n\n\n\n\n\n\n\n\n\n\n\n\n\n\n\n\n\n\n\n\n\n\n\n\n\nThings To Do in Cook Forest\, Pennsylvania  · \n\n\n\n\nThe Heath Township Sportsmens Club\n ·2d ·\n\n\n\n\n\n\n\n\n\n\n\n\n\nHeath Twp Sportsmens Club Annual Veterans and First Responders Fishing Derby is Sunday\, May 3 at Clear Creek State Park. Stocking and registration begins at 8AM Fishing from 9AM to 12PM. Open to First Responders\, Veterans and current military serving members . Food\,giveaways\, club memberships\,club merchandise.
URL:https://brookvillechamber.com/event/veterans-first-responders-fishing-derby/
LOCATION:Clear Creek State Park\, 38 Clear Creek Park Road\, Sigel\, PA\, 15860\, United States
CATEGORIES:Educational,Food & Drink,Nature & Wildlife,Outdoor & Trail
ATTACH;FMTTYPE=image/jpeg:https://brookvillechamber.com/wp-content/uploads/2026/04/671760548_122214025358571556_4869091437748715373_n.jpg
END:VEVENT
END:VCALENDAR