BEGIN:VCALENDAR
VERSION:2.0
PRODID:-//brookvillechamber.com - ECPv6.15.20//NONSGML v1.0//EN
CALSCALE:GREGORIAN
METHOD:PUBLISH
X-ORIGINAL-URL:https://brookvillechamber.com
X-WR-CALDESC:Events for brookvillechamber.com
REFRESH-INTERVAL;VALUE=DURATION:PT1H
X-Robots-Tag:noindex
X-PUBLISHED-TTL:PT1H
BEGIN:VTIMEZONE
TZID:America/New_York
BEGIN:DAYLIGHT
TZOFFSETFROM:-0500
TZOFFSETTO:-0400
TZNAME:EDT
DTSTART:20250309T070000
END:DAYLIGHT
BEGIN:STANDARD
TZOFFSETFROM:-0400
TZOFFSETTO:-0500
TZNAME:EST
DTSTART:20251102T060000
END:STANDARD
BEGIN:DAYLIGHT
TZOFFSETFROM:-0500
TZOFFSETTO:-0400
TZNAME:EDT
DTSTART:20260308T070000
END:DAYLIGHT
BEGIN:STANDARD
TZOFFSETFROM:-0400
TZOFFSETTO:-0500
TZNAME:EST
DTSTART:20261101T060000
END:STANDARD
BEGIN:DAYLIGHT
TZOFFSETFROM:-0500
TZOFFSETTO:-0400
TZNAME:EDT
DTSTART:20270314T070000
END:DAYLIGHT
BEGIN:STANDARD
TZOFFSETFROM:-0400
TZOFFSETTO:-0500
TZNAME:EST
DTSTART:20271107T060000
END:STANDARD
END:VTIMEZONE
BEGIN:VEVENT
DTSTART;TZID=America/New_York:20260425T190000
DTEND;TZID=America/New_York:20260425T220000
DTSTAMP:20260421T080303
CREATED:20260310T142938Z
LAST-MODIFIED:20260310T143935Z
UID:8011-1777143600-1777154400@brookvillechamber.com
SUMMARY:The NBC Chorus Presents Barber Shop Harmony
DESCRIPTION:THE NBC CHROUS PRESENTS THE 68th ANNUAL PARADE OF  BARBERSHOP HARMONY \nThe Beatles VS the Beach Boys! Featuring The NBC Barbershop Chorus Shades of Harmony \nSpecial K\, Finally Got Em: and guest quartet Mom’s Favorite. \n  \n  \n  \n  \n 
URL:https://brookvillechamber.com/event/the-nbc-chorus-presents-barber-shop-harmony/
LOCATION:Redbank Valley High School
CATEGORIES:Food & Drink,Fundraiser,Music
ATTACH;FMTTYPE=image/jpeg:https://brookvillechamber.com/wp-content/uploads/2026/03/1086_001-scaled.jpg
END:VEVENT
BEGIN:VEVENT
DTSTART;TZID=America/New_York:20260426T110000
DTEND;TZID=America/New_York:20260426T110000
DTSTAMP:20260421T080303
CREATED:20260402T131518Z
LAST-MODIFIED:20260402T132910Z
UID:8382-1777201200-1777201200@brookvillechamber.com
SUMMARY:The Well Picnic
DESCRIPTION:The Well Picnic Supporting Women at the Well Ministries \nFundraiser & Open House At the Summerville Fire Hall \nSloopy Joes -Baked Beans – Macaroni Salad – Dessert \n$10.00 Adults – $5 Children (5-10yrs.)Free (Children under 5 yrs Sunday \nSunday – April 26 2026\, 11:00am – 3:00pm. \nRaffle Baskets – Drawing at 2:oo pm. T-Shirts For Sale
URL:https://brookvillechamber.com/event/the-well-picnic/
LOCATION:Summerville Fire Hall\, 12795 Harrison Street\, PA\, 15864\, United States
CATEGORIES:Food & Drink,Fundraiser
ATTACH;FMTTYPE=image/png:https://brookvillechamber.com/wp-content/uploads/2025/11/Women-at-the-Well-Ministries-of-PA-1.png
END:VEVENT
END:VCALENDAR