BEGIN:VCALENDAR
VERSION:2.0
PRODID:-//brookvillechamber.com - ECPv6.15.20//NONSGML v1.0//EN
CALSCALE:GREGORIAN
METHOD:PUBLISH
X-ORIGINAL-URL:https://brookvillechamber.com
X-WR-CALDESC:Events for brookvillechamber.com
REFRESH-INTERVAL;VALUE=DURATION:PT1H
X-Robots-Tag:noindex
X-PUBLISHED-TTL:PT1H
BEGIN:VTIMEZONE
TZID:America/New_York
BEGIN:DAYLIGHT
TZOFFSETFROM:-0500
TZOFFSETTO:-0400
TZNAME:EDT
DTSTART:20250309T070000
END:DAYLIGHT
BEGIN:STANDARD
TZOFFSETFROM:-0400
TZOFFSETTO:-0500
TZNAME:EST
DTSTART:20251102T060000
END:STANDARD
BEGIN:DAYLIGHT
TZOFFSETFROM:-0500
TZOFFSETTO:-0400
TZNAME:EDT
DTSTART:20260308T070000
END:DAYLIGHT
BEGIN:STANDARD
TZOFFSETFROM:-0400
TZOFFSETTO:-0500
TZNAME:EST
DTSTART:20261101T060000
END:STANDARD
BEGIN:DAYLIGHT
TZOFFSETFROM:-0500
TZOFFSETTO:-0400
TZNAME:EDT
DTSTART:20270314T070000
END:DAYLIGHT
BEGIN:STANDARD
TZOFFSETFROM:-0400
TZOFFSETTO:-0500
TZNAME:EST
DTSTART:20271107T060000
END:STANDARD
END:VTIMEZONE
BEGIN:VEVENT
DTSTART;TZID=America/New_York:20261019T110000
DTEND;TZID=America/New_York:20261019T180000
DTSTAMP:20260422T183406
CREATED:20260309T143119Z
LAST-MODIFIED:20260309T143119Z
UID:7989-1792407600-1792432800@brookvillechamber.com
SUMMARY:Food Truck Monday
DESCRIPTION:Food Truck Monday returns to Historic Downtown Brookville beginning March 16! Each Monday from mid-March through October\, a rotating lineup of food trucks will serve lunch and dinner in front of Town Square on Main Street. Grab something delicious and enjoy the heart of downtown—because the best seat in the house is outside. Relax at one of the picnic tables or park benches\, take in the fresh air\, and soak up the charm of Brookville’s Victorian Main Street. Hosted by the Brookville Area Chamber of Commerce.
URL:https://brookvillechamber.com/event/food-truck-monday-27/
LOCATION:Historic Brookville Town Square\, 236 Main Street\, Brookville\, Pennsylvania\, 15825\, United States
CATEGORIES:BACC Event,Food & Drink
ATTACH;FMTTYPE=image/png:https://brookvillechamber.com/wp-content/uploads/2026/03/Billboard-Food-Truck-Monday-2026-2.png
ORGANIZER;CN="Brookville Area Chamber of Commerce":MAILTO:director@brookvillechamber.com
END:VEVENT
BEGIN:VEVENT
DTSTART;TZID=America/New_York:20261019T110000
DTEND;TZID=America/New_York:20261019T180000
DTSTAMP:20260422T183406
CREATED:20260309T143404Z
LAST-MODIFIED:20260309T143404Z
UID:7991-1792407600-1792432800@brookvillechamber.com
SUMMARY:Food Truck Monday
DESCRIPTION:Food Truck Monday returns to Historic Downtown Brookville beginning March 16! Each Monday from mid-March through October\, a rotating lineup of food trucks will serve lunch and dinner in front of Town Square on Main Street. Grab something delicious and enjoy the heart of downtown—because the best seat in the house is outside. Relax at one of the picnic tables or park benches\, take in the fresh air\, and soak up the charm of Brookville’s Victorian Main Street. Hosted by the Brookville Area Chamber of Commerce.
URL:https://brookvillechamber.com/event/food-truck-monday-30/
LOCATION:Historic Brookville Town Square\, 236 Main Street\, Brookville\, Pennsylvania\, 15825\, United States
CATEGORIES:BACC Event,Food & Drink
ATTACH;FMTTYPE=image/png:https://brookvillechamber.com/wp-content/uploads/2026/03/Billboard-Food-Truck-Monday-2026-2.png
ORGANIZER;CN="Brookville Area Chamber of Commerce":MAILTO:director@brookvillechamber.com
END:VEVENT
BEGIN:VEVENT
DTSTART;TZID=America/New_York:20261026T100000
DTEND;TZID=America/New_York:20261026T230000
DTSTAMP:20260422T183406
CREATED:20260309T142553Z
LAST-MODIFIED:20260309T142802Z
UID:7987-1793008800-1793055600@brookvillechamber.com
SUMMARY:Food Truck Monday
DESCRIPTION:Food Truck Monday returns to Historic Downtown Brookville beginning March 16! Each Monday from mid-March through October\, a rotating lineup of food trucks will serve lunch and dinner in front of Town Square on Main Street. Grab something delicious and enjoy the heart of downtown—because the best seat in the house is outside. Relax at one of the picnic tables or park benches\, take in the fresh air\, and soak up the charm of Brookville’s Victorian Main Street. Hosted by the Brookville Area Chamber of Commerce.
URL:https://brookvillechamber.com/event/food-truck-monday-29/
LOCATION:Historic Brookville Town Square\, 236 Main Street\, Brookville\, Pennsylvania\, 15825\, United States
CATEGORIES:BACC Event,Food & Drink
ATTACH;FMTTYPE=image/png:https://brookvillechamber.com/wp-content/uploads/2026/03/Billboard-Food-Truck-Monday-2026-2.png
ORGANIZER;CN="Brookville Area Chamber of Commerce":MAILTO:director@brookvillechamber.com
END:VEVENT
BEGIN:VEVENT
DTSTART;TZID=America/New_York:20261205T120000
DTEND;TZID=America/New_York:20261205T160000
DTSTAMP:20260422T183406
CREATED:20260319T143617Z
LAST-MODIFIED:20260319T143617Z
UID:8127-1796472000-1796486400@brookvillechamber.com
SUMMARY:BACC Tasting Tour
DESCRIPTION:Sip\, Savor\, and Shop your way through Historic Downtown Brookville at the Brookville Chamber’s Annual Tasting Tour! Enjoy samples from regional wineries\, breweries\, and distilleries while strolling Main Street\, exploring local shops\, and taking in live music\, food trucks\, and festive holiday fun. VIP tickets offer early access and exclusive perks. Must be 21+ with valid ID. Get full details and tickets here: Learn More & Purchase Tickets\n\nBrookvilleTastingTour.com
URL:https://brookvillechamber.com/event/bacc-tasting-tour/
LOCATION:Main Street\, Brookville\, Main Street\, Brookville\, PA\, 15825\, United States
CATEGORIES:BACC Event,Food & Drink,Music,Shopping
ATTACH;FMTTYPE=image/png:https://brookvillechamber.com/wp-content/uploads/2026/03/Tasting-Tour-2026-1.png
END:VEVENT
END:VCALENDAR