BEGIN:VCALENDAR
VERSION:2.0
PRODID:-//brookvillechamber.com - ECPv6.15.20//NONSGML v1.0//EN
CALSCALE:GREGORIAN
METHOD:PUBLISH
X-ORIGINAL-URL:https://brookvillechamber.com
X-WR-CALDESC:Events for brookvillechamber.com
REFRESH-INTERVAL;VALUE=DURATION:PT1H
X-Robots-Tag:noindex
X-PUBLISHED-TTL:PT1H
BEGIN:VTIMEZONE
TZID:America/New_York
BEGIN:DAYLIGHT
TZOFFSETFROM:-0500
TZOFFSETTO:-0400
TZNAME:EDT
DTSTART:20250309T070000
END:DAYLIGHT
BEGIN:STANDARD
TZOFFSETFROM:-0400
TZOFFSETTO:-0500
TZNAME:EST
DTSTART:20251102T060000
END:STANDARD
BEGIN:DAYLIGHT
TZOFFSETFROM:-0500
TZOFFSETTO:-0400
TZNAME:EDT
DTSTART:20260308T070000
END:DAYLIGHT
BEGIN:STANDARD
TZOFFSETFROM:-0400
TZOFFSETTO:-0500
TZNAME:EST
DTSTART:20261101T060000
END:STANDARD
BEGIN:DAYLIGHT
TZOFFSETFROM:-0500
TZOFFSETTO:-0400
TZNAME:EDT
DTSTART:20270314T070000
END:DAYLIGHT
BEGIN:STANDARD
TZOFFSETFROM:-0400
TZOFFSETTO:-0500
TZNAME:EST
DTSTART:20271107T060000
END:STANDARD
END:VTIMEZONE
BEGIN:VEVENT
DTSTART;TZID=America/New_York:20260822T110000
DTEND;TZID=America/New_York:20260822T190000
DTSTAMP:20260422T143341
CREATED:20260409T145025Z
LAST-MODIFIED:20260409T145025Z
UID:8468-1787396400-1787425200@brookvillechamber.com
SUMMARY:BROOKVILLE BBQ BASH
DESCRIPTION:Fire up your appetite and mark your calendars! The Brookville BBQ Bash is back and it’s bigger\, bolder\, and smokier than ever. We’re turning up the heat at the Jefferson County Fairgrounds on Saturday\, August 22\, 2026\, and you absolutely cannot miss the hottest party of the summer!\n20\nThis isn’t just a meal—it’s a full-day experience featuring:\n\n\nThe Main Course: Indulge in slow-smoked ribs\, brisket\, pulled pork\, and creative BBQ sides from top-tier pitmasters and food trucks.\n\n\nLive Music: Enjoy a curated lineup of live bands providing the perfect summer soundtrack all day long.\n\n\nVendor Market: Browse a variety of local artisans\, handmade goods\, and unique finds.\n\n\nCar Cruise-In: Admire a stunning collection of vintage rides and classic cars.\n\n\nFamily Fun: A dedicated Kids’ Zone with bounce houses and activities ensures the little ones stay entertained.\n\n\nRefreshments: Cool off with adult beverages available in souvenir BBQ Bash beer mugs.\n\n\n\n\n…
URL:https://brookvillechamber.com/event/brookville-bbq-bash/
LOCATION:Jefferson County Fairgrounds\, 146 Strishock Lane\, Brookville\, PA\, 15825\, United States
CATEGORIES:BACC Event,Food & Drink,Kid's Event,Music
ATTACH;FMTTYPE=image/png:https://brookvillechamber.com/wp-content/uploads/2026/04/Billboard-BBQ-Bash.png
END:VEVENT
END:VCALENDAR