BEGIN:VCALENDAR
VERSION:2.0
PRODID:-//brookvillechamber.com - ECPv6.15.20//NONSGML v1.0//EN
CALSCALE:GREGORIAN
METHOD:PUBLISH
X-WR-CALNAME:brookvillechamber.com
X-ORIGINAL-URL:https://brookvillechamber.com
X-WR-CALDESC:Events for brookvillechamber.com
REFRESH-INTERVAL;VALUE=DURATION:PT1H
X-Robots-Tag:noindex
X-PUBLISHED-TTL:PT1H
BEGIN:VTIMEZONE
TZID:America/New_York
BEGIN:DAYLIGHT
TZOFFSETFROM:-0500
TZOFFSETTO:-0400
TZNAME:EDT
DTSTART:20250309T070000
END:DAYLIGHT
BEGIN:STANDARD
TZOFFSETFROM:-0400
TZOFFSETTO:-0500
TZNAME:EST
DTSTART:20251102T060000
END:STANDARD
BEGIN:DAYLIGHT
TZOFFSETFROM:-0500
TZOFFSETTO:-0400
TZNAME:EDT
DTSTART:20260308T070000
END:DAYLIGHT
BEGIN:STANDARD
TZOFFSETFROM:-0400
TZOFFSETTO:-0500
TZNAME:EST
DTSTART:20261101T060000
END:STANDARD
BEGIN:DAYLIGHT
TZOFFSETFROM:-0500
TZOFFSETTO:-0400
TZNAME:EDT
DTSTART:20270314T070000
END:DAYLIGHT
BEGIN:STANDARD
TZOFFSETFROM:-0400
TZOFFSETTO:-0500
TZNAME:EST
DTSTART:20271107T060000
END:STANDARD
END:VTIMEZONE
BEGIN:VEVENT
DTSTART;VALUE=DATE:20260719
DTEND;VALUE=DATE:20260726
DTSTAMP:20260421T040930
CREATED:20251218T154149Z
LAST-MODIFIED:20260223T134517Z
UID:6782-1784419200-1785023999@brookvillechamber.com
SUMMARY:Jefferson County Fair
DESCRIPTION:The Jefferson County Fair in Brookville\, PA\, is scheduled for July 19-25\, 2026\, following its traditional third week of July schedule\, with plans underway for new ticket booths\, entertainment\, and continued community engagement \nThe Jefferson County Fair in Brookville\, PA is a premier summer tradition that brings the community together for a week of high-energy entertainment\, agricultural excellence\, and classic family fun. Visitors can look forward to a packed grandstand lineup featuring everything from the roar of the Demolition Derby and Rough Truck races to the power of professional truck and tractor pulls. For those seeking a change of pace\, the fair offers professional rodeo action\, mud bogs\, and live musical performances ranging from country tributes to rock. \nBeyond the grandstand\, the fairgrounds stay active with a full carnival provided by Bartlebaugh Amusements\, the Bar C Ranch petting zoo\, and daily shows that are always a crowd favorite. It is also a time to celebrate local heritage through 4-H and FFA livestock shows\, competitive agricultural judging\, and the annual livestock sale.
URL:https://brookvillechamber.com/event/jefferson-county-fair-2/
LOCATION:Jefferson County Fairgrounds\, 146 Strishock Lane\, Brookville\, PA\, 15825\, United States
CATEGORIES:Fairs & Festivals,Food & Drink,Kid's Event,Music
ATTACH;FMTTYPE=image/jpeg:https://brookvillechamber.com/wp-content/uploads/2025/07/Jefferson-County-Fair-logo.jpg
END:VEVENT
BEGIN:VEVENT
DTSTART;VALUE=DATE:20260723
DTEND;VALUE=DATE:20260726
DTSTAMP:20260421T040930
CREATED:20260420T154338Z
LAST-MODIFIED:20260420T161744Z
UID:8612-1784764800-1785023999@brookvillechamber.com
SUMMARY:Barage Fest
DESCRIPTION:Barage Fest 2026 \n\nOnce again we return to that old stage in Summerville\, Pa for the annual Barage Fest. This is our biggest fest to date as we have added Thursday. Thursday will be a free admission day to see what Barage Fest is all about!! Pre-sale discounted tickets are available at Main Street Revolution in Brookville\, Pa. Camping is available for the weekend for a $10 per vehicle pass. \nThis year’s lineup includes: \nToby Crik\nSignal The Sentinel\nCabin Full of Bears\nJagwire\nMaking State\n6 to Midnight\nThe Wasted\nXubenelgenubi\nJigscythe\nFuzzii\nGood Juice\nGalactic Jihad\nMayreh\nEssential Machine\nGhostlight Labyrinth\nAnother Dark Fall\nRurally Bankrupt\nThe Keep It Downs\nFrom Behind Waves\nThe Thunderskulls\nAdam Sierzega & Mark Kephart (duo)\nJohn Cornman\nDave Barnacastle\nJimmy Tramp (Saturday preference)\nBryan Shutka\nJosh Long\nBraiden Davis\nNick Forsythe (Friday preference)\nCurtis Orris\nDillon McCall \n\nBarage Fest 2026 tickets are on sale on our Square page now. The tickets are for the entire weekend for $30\, plus a $2 fee for the processing and postage fees. Camping is available for an additional fee. For more information please reach out to the Barage Fest page\, this group does all of the organization for this fundraiser they do for us and we are very grateful to them. You can grab your ticket online off our Square site at https://summerville-volunteer-firemens-association.square… \n  \n  \n  \n  \n  \n  \n  \n  \n  \n  \n  \n  \n  \n  \n  \n  \n  \n  \n  \n  \n  \n  \n  \n  \n  \n 
URL:https://brookvillechamber.com/event/barage-fest/
LOCATION:SummervilleFiremens Park
CATEGORIES:Fairs & Festivals,Food & Drink,Music
ATTACH;FMTTYPE=image/jpeg:https://brookvillechamber.com/wp-content/uploads/2026/04/655162896_1087777217743490_7295914547784232604_n.jpg
END:VEVENT
BEGIN:VEVENT
DTSTART;VALUE=DATE:20260723
DTEND;VALUE=DATE:20260727
DTSTAMP:20260421T040930
CREATED:20260327T125615Z
LAST-MODIFIED:20260327T125615Z
UID:8308-1784764800-1785110399@brookvillechamber.com
SUMMARY:Wine & Dine Weekend
DESCRIPTION:Join us for a Wine & Dine Weekend at Gateway Lodge this July! Stay three nights from July 23–26 in a Fireside Suite featuring a jetted tub and cozy gas fireplace\, with breakfast delivered to your suite each morning. Savor this summer’s finest wines paired with a delectable three-course\, farm-to-table dinner\, and enjoy live entertainment for an unforgettable getaway.\nEnjoy two or three nights in a Fireside Suite\, most with a king bed\, private balcony\, jetted tub\, and fireplace. Each morning\, we’ll deliver a farm-to-table breakfast to your door. And on Thursday and Friday night\, choose to dine from our Wild Crafter’s Kitchen Menu while enjoying a bottle of wine or local craft beer from our bar.
URL:https://brookvillechamber.com/event/wine-dine-weekend/
LOCATION:Gateway Lodge\, 14870 Route 36\, Cooksburg\, PA\, 16217\, United States
CATEGORIES:Food & Drink,Music,Nature & Wildlife
ATTACH;FMTTYPE=image/jpeg:https://brookvillechamber.com/wp-content/uploads/2026/03/WineDinePackageHero-1440x900-1.jpg
END:VEVENT
BEGIN:VEVENT
DTSTART;VALUE=DATE:20260724
DTEND;VALUE=DATE:20260725
DTSTAMP:20260421T040930
CREATED:20260205T190704Z
LAST-MODIFIED:20260306T153313Z
UID:7578-1784851200-1784937599@brookvillechamber.com
SUMMARY:Back to the 80
DESCRIPTION:“Back to the 80s” Musical\nJuly 24-26 and August 2\nLocation:  Sawmill Center for the Arts\nOrganized: Brookville Community Theater\n\nBack to the 80s is a high-energy jukebox musical that follows a 30-something Corey Palmer as he reminisces about his 1985 senior year\, dealing with crushes\, bullies\, and friendships. It is a nostalgic\, comedic\, and colorful tribute to 1980s pop culture.
URL:https://brookvillechamber.com/event/back-to-the-80/
LOCATION:Cook Forest Sawmill Center for the Arts\, 140 Theatre Lane\, Cooksburg\, PA\, 16217\, United States
CATEGORIES:Music,Theater & Arts
ATTACH;FMTTYPE=image/jpeg:https://brookvillechamber.com/wp-content/uploads/2026/02/Back-to-the-80s.jpg
END:VEVENT
END:VCALENDAR