BEGIN:VCALENDAR
VERSION:2.0
PRODID:-//brookvillechamber.com - ECPv6.15.20//NONSGML v1.0//EN
CALSCALE:GREGORIAN
METHOD:PUBLISH
X-WR-CALNAME:brookvillechamber.com
X-ORIGINAL-URL:https://brookvillechamber.com
X-WR-CALDESC:Events for brookvillechamber.com
REFRESH-INTERVAL;VALUE=DURATION:PT1H
X-Robots-Tag:noindex
X-PUBLISHED-TTL:PT1H
BEGIN:VTIMEZONE
TZID:America/New_York
BEGIN:DAYLIGHT
TZOFFSETFROM:-0500
TZOFFSETTO:-0400
TZNAME:EDT
DTSTART:20250309T070000
END:DAYLIGHT
BEGIN:STANDARD
TZOFFSETFROM:-0400
TZOFFSETTO:-0500
TZNAME:EST
DTSTART:20251102T060000
END:STANDARD
BEGIN:DAYLIGHT
TZOFFSETFROM:-0500
TZOFFSETTO:-0400
TZNAME:EDT
DTSTART:20260308T070000
END:DAYLIGHT
BEGIN:STANDARD
TZOFFSETFROM:-0400
TZOFFSETTO:-0500
TZNAME:EST
DTSTART:20261101T060000
END:STANDARD
BEGIN:DAYLIGHT
TZOFFSETFROM:-0500
TZOFFSETTO:-0400
TZNAME:EDT
DTSTART:20270314T070000
END:DAYLIGHT
BEGIN:STANDARD
TZOFFSETFROM:-0400
TZOFFSETTO:-0500
TZNAME:EST
DTSTART:20271107T060000
END:STANDARD
END:VTIMEZONE
BEGIN:VEVENT
DTSTART;TZID=America/New_York:20260714T090000
DTEND;TZID=America/New_York:20260720T160000
DTSTAMP:20260421T040924
CREATED:20260227T152643Z
LAST-MODIFIED:20260306T142255Z
UID:7789-1784019600-1784563200@brookvillechamber.com
SUMMARY:Future Expositions: The Plan
DESCRIPTION: Future Expositions: The Plan \n\n\n\n\nEach year our Spring Exposition features a particular engine.  Here are the featured engines for upcoming years of Expositions. \nJune 18\, 19\, and 20\, 2026 – Hot Air Engines of the World\nThis Exposition will feature the hot air (Stirling) engines\, fans\, and numerous past and present thermal operated toys and models from across the globe! The museum currently showcases several of these unique and interesting operating machines and a record number are expected to show up for the show. Our chairman for this event is well known and respected for his knowledge of these engines\, and their past\, present\, and future value to mankind.\nExposition Chairman: Dr. Brent Rowell \nJune 17\, 18\, and 19\, 2027 – Crossley Bros. and other English Engines\nThe focus of this event will showcase these uniquely designed engines. They have become popular with collectors and engine enthusiasts here in the states and abroad. The museum showcases of these engines. We look forward to seeing these engines for the Exposition! Our knowledgeable chairman promises a great Exposition!\nExposition Chairman: Wayne Grenning \nJune 15\, 16\, and 17\, 2028 – Diesel\, Air Blast & Oil Engines\nThis event will showcase our new “Diesel Centrale CPM” building with the M.A.N. Diesel\, the Graz Diesel\, and the Benz Diesel engines. The museum also has an extensive display of Oil Engines in the “Power Technology Building Annex” building.\nExposition Chairman: Mike Murphy \nJune 14\, 15\, and 16\, 2029 – The “Otto” Gas and Gasoline Engines\nThis event will showcase the famous Otto Gas and Gasoline Engine Company of Philadelphia\, PA. Founded as Schleicher\, Schumm & Co. in 1876 by its German parent company\, the firm later became Otto Gas Engine Works in honor of the founder and father of our modern four-cycle engine\, Dr. Nicholas Otto.\nExposition Chairman: Chris Epping \nJune 13\, 14\, and 15\, 2030 – John Deere\, Root & VanDervoort\, & Waterloo Boy\nThis event will feature the John Deere\, R & V\, and the Waterloo Boy gas engines. There should be many of these high-quality engines for the Exposition Show.\nExposition Co-Chairman: Peter Knight and Rie Fulk
URL:https://brookvillechamber.com/event/7789/
LOCATION:Coolspring Power Museum\, 179 Coolspring Road\, Coolspring\, 15730
CATEGORIES:Educational,Food & Drink,History & Culture,Kid's Event,Museum
ATTACH;FMTTYPE=image/jpeg:https://brookvillechamber.com/wp-content/uploads/2025/01/Coolspring-Power-Museum.jpg
END:VEVENT
BEGIN:VEVENT
DTSTART;TZID=America/New_York:20260718T080000
DTEND;TZID=America/New_York:20260718T140000
DTSTAMP:20260421T040924
CREATED:20260319T181103Z
LAST-MODIFIED:20260319T181103Z
UID:8157-1784361600-1784383200@brookvillechamber.com
SUMMARY:2nd Annual Jake Popson Memorial Bow Shoot
DESCRIPTION:2nd Annual Jake Popson Memorial Bow Shoot\nJoin us for a day of archery\, community\, and remembrance!\nWhether you’re a seasoned archer or just looking for a great day outdoors\, the Jake Popson Memorial Bow Shoot offers a unique experience for everyone. This event honors Jake’s legacy with a day of friendly competition on a scenic 30-target 3-D course\, complete with quirky challenges and precision novelty shoots.\nEvent Details:\n\n\nWhen: Saturday\, July 18\, 2026\n\n\nTime: 8:00 AM – 2:00 PM (Scorecards due by 2:00 PM)\n\n\nWhere: 769 Smail Road\, Corsica\, PA\n\n\nFood: Complimentary meal for all registered shooters (12:00 PM – 3:00 PM)\n\n\nHighlights & Challenges:\n\n\n3-D Course: 30 targets set through beautiful\, scenic terrain.\n\n\nIron Target Challenge: A high-stakes elimination shoot at 2:30 PM for a chance to win prizes.\n\n\nNovelty Shoots: Test your skills with the Inside Out and Rat Trap challenges.\n\n\nAuction & Prizes: Participate in the Chinese Auction and various archery raffles.\n\n\nRegistration: Pre-register online to secure an exclusive event T-shirt\, or register on-site the day of the event for $30. Please note that this is a hunter stake course—traditional and compound bows only (no crossbows or competition bows).\nAll proceeds benefit the Jake Popson Memorial. Bring your bow\, your friends\, and your competitive spirit!\n Click here to register and view full event details
URL:https://brookvillechamber.com/event/2nd-annual-jake-popson-memorial-bow-shoot/
LOCATION:769 Smail Road\, Corsica\,  Pa
CATEGORIES:Educational,Food & Drink,Nature & Wildlife,Outdoor & Trail
ATTACH;FMTTYPE=image/png:https://brookvillechamber.com/wp-content/uploads/2026/03/2026-JHP-Bow-Shoot-square.png
END:VEVENT
BEGIN:VEVENT
DTSTART;TZID=America/New_York:20260718T090000
DTEND;TZID=America/New_York:20260718T160000
DTSTAMP:20260421T040924
CREATED:20260227T143412Z
LAST-MODIFIED:20260227T143412Z
UID:7779-1784365200-1784390400@brookvillechamber.com
SUMMARY:Coolspring Power Museum "History Day"
DESCRIPTION:At Coolspring Power Museum \n\n\nCoolspring Power Museum is hosting “History Day” from 9 a.m. to 4 p.m. There will be volunteers throughout the museum buildings and grounds to give presentations on the history of many engines in the museum along with the history of the museum itself. They will explain when and where the engines were built and what they were used for. A brief description will be given on how the engines operate and why each manufacturer made his a little different than others. Many engines will be running throughout the day\, with a scheduled start-up for the larger engines. Engineers will explain how they start an engine and answer any questions you might have. History Day will give you the opportunity to have a personal tour of the museum and the freedom to do so at your own pace. Volunteers will be on hand to show you why the Coolspring Power Museum has the finest antique engine collection in the world. \nThe gift shop will be open all day for any souvenirs or apparel you might be interested in. Restroom facilities that are wheelchair accessible are available and there are plenty of benches throughout the grounds for taking a break. A food vendor will be on-site if you wish to purchase lunch or refreshments.  All parking is free. \nAdmission for the event is $12.  Information regarding the event is available by calling the museum at 814-849-6883 or by calling Stewart McKinley at 814-316-1794 between 8 a.m. and 9 p.m. Eastern Time.  Your admission includes presentations and tours. \n History Day events are 9 a.m. to 4 p.m. \n\n\n 
URL:https://brookvillechamber.com/event/coolspring-power-museum-history-day/
LOCATION:Coolspring Power Museum\, 179 Coolspring Road\, Coolspring\, 15730
CATEGORIES:Educational,Food & Drink,History & Culture,Kid's Event,Museum
ATTACH;FMTTYPE=image/jpeg:https://brookvillechamber.com/wp-content/uploads/2025/01/Coolspring-Power-Museum-logo.jpg
END:VEVENT
BEGIN:VEVENT
DTSTART;TZID=America/New_York:20260718T090000
DTEND;TZID=America/New_York:20260718T160000
DTSTAMP:20260421T040924
CREATED:20260227T143926Z
LAST-MODIFIED:20260306T151851Z
UID:7782-1784365200-1784390400@brookvillechamber.com
SUMMARY:Antique Car\,Truck&Tractor Show
DESCRIPTION:Antique Car\, Truck & Tractor Show \nJuly 18\, 2026 \nAt the Coolspring Power Museum Exhibitor Field \n\n\nThis is a show for fun!  No judging of cars\, trucks\, or tractors. No vehicle is too large or too small. We will also be having History Day with the show and many engines will be running along with guided tours of the museum available. A food vendor will be on-site if you wish to purchase lunch or refreshments. \nA donation to CPM for showing your vehicle is appreciated. \nAdmission is $12 unless you are showing a vehicle.  Two free admissions per vehicle. \nQuestions?  Please call Stewart McKinley at 814-316-1794 between 8 a.m. and 9 p.m. Eastern Time. \nThe show events are 9 a.m. to 4 p.m.
URL:https://brookvillechamber.com/event/antique-cartrucktractor-show/
LOCATION:Coolspring Power Museum\, 179 Coolspring Road\, Coolspring\, 15730
CATEGORIES:Educational,Food & Drink,Museum
ATTACH;FMTTYPE=image/jpeg:https://brookvillechamber.com/wp-content/uploads/2025/01/Coolspring-Power-Museum-logo.jpg
END:VEVENT
BEGIN:VEVENT
DTSTART;TZID=America/New_York:20260718T130000
DTEND;TZID=America/New_York:20260719T160000
DTSTAMP:20260421T040924
CREATED:20260320T150233Z
LAST-MODIFIED:20260320T150233Z
UID:8197-1784379600-1784476800@brookvillechamber.com
SUMMARY:Cadillac Museum
DESCRIPTION:Chrome. Fins. Power. Pure American attitude. \nThe Greenberg Cadillac Museum isn’t just a collection—it’s a full-throttle walk through America’s love affair with the automobile. Home to America’s Largest Cadillac Collection\, this place is PACKED with over 85 jaw-dropping classics that defined cool for generations.\nWe’re talking bold designs\, vintage luxury\, tailfins for days\, and the kind of cars that turned heads then—and still do now. Every corner hits you with something iconic\, from early 1900s pioneers to the smooth\, statement-making rides that owned the road.\nIf you love classic cars\, nostalgia\, or just want to see something seriously impressive right here in Brookville—this is your stop.\n 67 South White Street (Route 36)\, Brookville\n Select weekends May–October\n 1:00 PM – 4:00 PM
URL:https://brookvillechamber.com/event/cadillac-museum-3/
LOCATION:67 south white street brookville pa
CATEGORIES:Museum
ATTACH;FMTTYPE=image/jpeg:https://brookvillechamber.com/wp-content/uploads/2026/03/2026.2.24-CADDY-POSTER--scaled.jpg
END:VEVENT
END:VCALENDAR